BEGIN:VCALENDAR
VERSION:2.0
PRODID:-//Tier One Neighborhood Coalition - ECPv5.2.0//NONSGML v1.0//EN
CALSCALE:GREGORIAN
METHOD:PUBLISH
X-WR-CALNAME:Tier One Neighborhood Coalition
X-ORIGINAL-URL:https://t1nc.org
X-WR-CALDESC:Events for Tier One Neighborhood Coalition
BEGIN:VTIMEZONE
TZID:America/Chicago
BEGIN:DAYLIGHT
TZOFFSETFROM:-0600
TZOFFSETTO:-0500
TZNAME:CDT
DTSTART:20190310T080000
END:DAYLIGHT
BEGIN:STANDARD
TZOFFSETFROM:-0500
TZOFFSETTO:-0600
TZNAME:CST
DTSTART:20191103T070000
END:STANDARD
END:VTIMEZONE
BEGIN:VEVENT
DTSTART;TZID=America/Chicago:20191214T180000
DTEND;TZID=America/Chicago:20191214T200000
DTSTAMP:20260422T185541
CREATED:20191206T040327Z
LAST-MODIFIED:20191206T040346Z
UID:4156-1576346400-1576353600@t1nc.org
SUMMARY:Holiday Party
DESCRIPTION:
URL:https://t1nc.org/event/holiday-party/
LOCATION:Deco Building\, 1800 Fredericksburg Road\, San Antonio\, 78201\, United States
END:VEVENT
END:VCALENDAR