BEGIN:VCALENDAR
VERSION:2.0
PRODID:-//Tier One Neighborhood Coalition - ECPv5.2.0//NONSGML v1.0//EN
CALSCALE:GREGORIAN
METHOD:PUBLISH
X-WR-CALNAME:Tier One Neighborhood Coalition
X-ORIGINAL-URL:https://t1nc.org
X-WR-CALDESC:Events for Tier One Neighborhood Coalition
BEGIN:VTIMEZONE
TZID:America/Chicago
BEGIN:DAYLIGHT
TZOFFSETFROM:-0600
TZOFFSETTO:-0500
TZNAME:CDT
DTSTART:20190310T080000
END:DAYLIGHT
BEGIN:STANDARD
TZOFFSETFROM:-0500
TZOFFSETTO:-0600
TZNAME:CST
DTSTART:20191103T070000
END:STANDARD
END:VTIMEZONE
BEGIN:VEVENT
DTSTART;TZID=America/Chicago:20190122T190000
DTEND;TZID=America/Chicago:20190122T200000
DTSTAMP:20260422T090515
CREATED:20190121T040057Z
LAST-MODIFIED:20190121T040350Z
UID:3994-1548183600-1548187200@t1nc.org
SUMMARY:Meet Erik Walsh\, City Manager Finalist - Special NNOD Meeting
DESCRIPTION:
URL:https://t1nc.org/event/meet-erik-walsh-city-manager-finalist-special-nnod-meeting/
LOCATION:Urban Ecology Center at Hardberger Park\, 8400 NW Military Hwy\, San Antonio\, TX\, 78231\, United States
ATTACH;FMTTYPE=image/png:https://t1nc.org/wp-content/uploads/2019/01/01-22-2019-NNOD-ERIC-WALSH-MEETING.png
ORGANIZER;CN="Northside%20Neighborhoods%20for%20Organized%20Development%20NNOD":MAILTO:nnod.org@gmail.com
END:VEVENT
END:VCALENDAR