BEGIN:VCALENDAR
VERSION:2.0
PRODID:-//Tier One Neighborhood Coalition - ECPv5.2.0//NONSGML v1.0//EN
CALSCALE:GREGORIAN
METHOD:PUBLISH
X-WR-CALNAME:Tier One Neighborhood Coalition
X-ORIGINAL-URL:https://t1nc.org
X-WR-CALDESC:Events for Tier One Neighborhood Coalition
BEGIN:VTIMEZONE
TZID:America/Chicago
BEGIN:DAYLIGHT
TZOFFSETFROM:-0600
TZOFFSETTO:-0500
TZNAME:CDT
DTSTART:20190310T080000
END:DAYLIGHT
BEGIN:STANDARD
TZOFFSETFROM:-0500
TZOFFSETTO:-0600
TZNAME:CST
DTSTART:20191103T070000
END:STANDARD
END:VTIMEZONE
BEGIN:VEVENT
DTSTART;TZID=America/Chicago:20190202T100000
DTEND;TZID=America/Chicago:20190202T120000
DTSTAMP:20260422T130523
CREATED:20190129T021927Z
LAST-MODIFIED:20190129T022042Z
UID:4018-1549101600-1549108800@t1nc.org
SUMMARY:Meeting with the City Manager
DESCRIPTION:
URL:https://t1nc.org/event/meeting-with-the-city-manager/
LOCATION:Cliff Morton Development and Business Services Center (One Stop)\, 1901 S. Alamo Street\, San Antonio\, TX\, 78204\, United States
ATTACH;FMTTYPE=image/jpeg:https://t1nc.org/wp-content/uploads/2019/01/D2-invite-to-CM-Meeting.jpg
END:VEVENT
END:VCALENDAR