BEGIN:VCALENDAR
VERSION:2.0
PRODID:-//Tier One Neighborhood Coalition - ECPv5.2.0//NONSGML v1.0//EN
CALSCALE:GREGORIAN
METHOD:PUBLISH
X-WR-CALNAME:Tier One Neighborhood Coalition
X-ORIGINAL-URL:https://t1nc.org
X-WR-CALDESC:Events for Tier One Neighborhood Coalition
BEGIN:VTIMEZONE
TZID:America/Chicago
BEGIN:DAYLIGHT
TZOFFSETFROM:-0600
TZOFFSETTO:-0500
TZNAME:CDT
DTSTART:20190310T080000
END:DAYLIGHT
BEGIN:STANDARD
TZOFFSETFROM:-0500
TZOFFSETTO:-0600
TZNAME:CST
DTSTART:20191103T070000
END:STANDARD
END:VTIMEZONE
BEGIN:VEVENT
DTSTART;TZID=America/Chicago:20191016T173000
DTEND;TZID=America/Chicago:20191016T173000
DTSTAMP:20260422T173109
CREATED:20191012T205311Z
LAST-MODIFIED:20191012T205851Z
UID:4136-1571247000-1571247000@t1nc.org
SUMMARY:Neighborhood Day at City Council
DESCRIPTION:
URL:https://t1nc.org/event/neighborhood-day-at-city-council/
LOCATION:Pre K-4 SA East Education Center\, 5230 Eisenhauer Road\, San Antonio\, TX\, 78218\, United States
ATTACH;FMTTYPE=application/pdf:https://t1nc.org/wp-content/uploads/2019/10/UPDATED-Nieghborhood-Day-Flier.pdf
END:VEVENT
END:VCALENDAR