BEGIN:VCALENDAR
VERSION:2.0
PRODID:-//Tier One Neighborhood Coalition - ECPv5.2.0//NONSGML v1.0//EN
CALSCALE:GREGORIAN
METHOD:PUBLISH
X-WR-CALNAME:Tier One Neighborhood Coalition
X-ORIGINAL-URL:https://t1nc.org
X-WR-CALDESC:Events for Tier One Neighborhood Coalition
BEGIN:VTIMEZONE
TZID:America/Chicago
BEGIN:DAYLIGHT
TZOFFSETFROM:-0600
TZOFFSETTO:-0500
TZNAME:CDT
DTSTART:20190310T080000
END:DAYLIGHT
BEGIN:STANDARD
TZOFFSETFROM:-0500
TZOFFSETTO:-0600
TZNAME:CST
DTSTART:20191103T070000
END:STANDARD
END:VTIMEZONE
BEGIN:VEVENT
DTSTART;TZID=America/Chicago:20190216T100000
DTEND;TZID=America/Chicago:20190216T120000
DTSTAMP:20260422T130053
CREATED:20190210T224055Z
LAST-MODIFIED:20190210T224055Z
UID:4022-1550311200-1550318400@t1nc.org
SUMMARY:Public Participation Guidelines  Workshop
DESCRIPTION:
URL:https://t1nc.org/event/public-participation-guidelines-workshop/
LOCATION:Claude Black Community Center\, 2805 E. Commerce Street\, Room. 16\, TX\, 78203\, United States
END:VEVENT
END:VCALENDAR