BEGIN:VCALENDAR
VERSION:2.0
PRODID:-//Tier One Neighborhood Coalition - ECPv5.2.0//NONSGML v1.0//EN
CALSCALE:GREGORIAN
METHOD:PUBLISH
X-WR-CALNAME:Tier One Neighborhood Coalition
X-ORIGINAL-URL:https://t1nc.org
X-WR-CALDESC:Events for Tier One Neighborhood Coalition
BEGIN:VTIMEZONE
TZID:America/Chicago
BEGIN:DAYLIGHT
TZOFFSETFROM:-0600
TZOFFSETTO:-0500
TZNAME:CDT
DTSTART:20190310T080000
END:DAYLIGHT
BEGIN:STANDARD
TZOFFSETFROM:-0500
TZOFFSETTO:-0600
TZNAME:CST
DTSTART:20191103T070000
END:STANDARD
END:VTIMEZONE
BEGIN:VEVENT
DTSTART;TZID=America/Chicago:20190105T083000
DTEND;TZID=America/Chicago:20190105T113000
DTSTAMP:20260422T060243
CREATED:20181231T010152Z
LAST-MODIFIED:20181231T035859Z
UID:3927-1546677000-1546687800@t1nc.org
SUMMARY:T1NC Steering Committee Mtg.
DESCRIPTION:
URL:https://t1nc.org/event/t1nc-steering-committee-mtg/
LOCATION:MVHA Office
END:VEVENT
END:VCALENDAR