BEGIN:VCALENDAR
VERSION:2.0
PRODID:-//Tier One Neighborhood Coalition - ECPv5.2.0//NONSGML v1.0//EN
CALSCALE:GREGORIAN
METHOD:PUBLISH
X-WR-CALNAME:Tier One Neighborhood Coalition
X-ORIGINAL-URL:https://t1nc.org
X-WR-CALDESC:Events for Tier One Neighborhood Coalition
BEGIN:VTIMEZONE
TZID:America/Chicago
BEGIN:DAYLIGHT
TZOFFSETFROM:-0600
TZOFFSETTO:-0500
TZNAME:CDT
DTSTART:20200308T080000
END:DAYLIGHT
BEGIN:STANDARD
TZOFFSETFROM:-0500
TZOFFSETTO:-0600
TZNAME:CST
DTSTART:20201101T070000
END:STANDARD
END:VTIMEZONE
BEGIN:VEVENT
DTSTART;TZID=America/Chicago:20200215T080000
DTEND;TZID=America/Chicago:20200215T170000
DTSTAMP:20260423T013158
CREATED:20200210T035113Z
LAST-MODIFIED:20200210T035113Z
UID:4169-1581753600-1581786000@t1nc.org
SUMMARY:UDC Amendment Process
DESCRIPTION:UDC Amendment Process: \nThe UDC Amendment Update process is underway and they are accepting amendments. The process began January 1st and will end May 1st\, 2020. Sign up for Updates and information.\nRead about the process and the timeline here.  \nFuture DSD UDC presentation dates: \n\nSaturday\, Feb. 15\nSaturday\, Mar. 21\nSaturday\, Apr. 18\n\nhttps://www.sanantonio.gov/DSD/Resources/Codes#154541587-unified-development-code \nThe UDC Amendment Update process began January 1st and will end May 1st\, 2020\,  DSD provides an excellent presentation on the current Unified Development Code (UDC) amendment process and is accepting amendments from January – May 2020). This process is very important to neighborhoods. DSD will come to your neighborhood or coalitions to present. Contact Tony Felts (210-207-0153) or Monique Mercado (210-207-5016) or email UDCAmendments@sanantonio.gov for more information or to schedule.\nRead about the process and the timeline here. \nSign up for Updates and information.
URL:https://t1nc.org/event/udc-amendment-process/
END:VEVENT
END:VCALENDAR